Package: flowcatchR Version: 1.45.0 Command: /home/biocbuild/bbs-3.23-bioc/R/bin/R CMD build --keep-empty-dirs --no-resave-data flowcatchR StartedAt: 2025-11-06 17:33:53 -0500 (Thu, 06 Nov 2025) EndedAt: 2025-11-06 17:34:30 -0500 (Thu, 06 Nov 2025) EllapsedTime: 37.0 seconds RetCode: 0 Status: OK PackageFile: flowcatchR_1.45.0.tar.gz PackageFileSize: 6.69 MiB