Package: flowcatchR Version: 1.43.0 Command: /Library/Frameworks/R.framework/Resources/bin/R CMD INSTALL flowcatchR StartedAt: 2025-10-15 15:16:10 -0400 (Wed, 15 Oct 2025) EndedAt: 2025-10-15 15:16:39 -0400 (Wed, 15 Oct 2025) EllapsedTime: 29.1 seconds RetCode: 0 Status: OK