Package: flowWorkspace Version: 4.23.0 Command: /home/biocbuild/bbs-3.23-bioc/R/bin/R CMD INSTALL flowWorkspace StartedAt: 2025-11-19 15:20:02 -0500 (Wed, 19 Nov 2025) EndedAt: 2025-11-19 15:22:13 -0500 (Wed, 19 Nov 2025) EllapsedTime: 131.6 seconds RetCode: 0 Status: OK