Package: flowWorkspace Version: 4.23.0 Command: /home/biocbuild/bbs-3.23-bioc/R/bin/R CMD check --install=check:flowWorkspace.install-out.txt --library=/home/biocbuild/bbs-3.23-bioc/R/site-library --timings flowWorkspace_4.23.0.tar.gz StartedAt: 2025-11-19 23:41:40 -0500 (Wed, 19 Nov 2025) EndedAt: 2025-11-19 23:45:12 -0500 (Wed, 19 Nov 2025) EllapsedTime: 212.3 seconds RetCode: 0 Status: WARNINGS CheckDir: flowWorkspace.Rcheck Warnings: 5