Package: flowWorkspace Version: 4.21.0 Command: /Library/Frameworks/R.framework/Resources/bin/R CMD check --install=check:flowWorkspace.install-out.txt --library=/Library/Frameworks/R.framework/Resources/library --no-vignettes --timings flowWorkspace_4.21.0.tar.gz StartedAt: 2025-10-21 19:48:47 -0400 (Tue, 21 Oct 2025) EndedAt: 2025-10-21 19:50:01 -0400 (Tue, 21 Oct 2025) EllapsedTime: 73.9 seconds RetCode: 0 Status: WARNINGS CheckDir: flowWorkspace.Rcheck Warnings: 5