Package: flowViz Version: 1.73.0 Command: /Library/Frameworks/R.framework/Resources/bin/R CMD INSTALL flowViz StartedAt: 2025-10-07 15:16:01 -0400 (Tue, 07 Oct 2025) EndedAt: 2025-10-07 15:16:21 -0400 (Tue, 07 Oct 2025) EllapsedTime: 20.3 seconds RetCode: 0 Status: OK