Package: flowViz Version: 1.73.0 Command: rm -rf flowViz.buildbin-libdir && mkdir flowViz.buildbin-libdir && /Users/biocbuild/BBS/utils/build-universal.sh flowViz_1.73.0.tar.gz /Library/Frameworks/R.framework/Resources/bin/R flowViz.buildbin-libdir StartedAt: 2025-10-08 02:18:15 -0400 (Wed, 08 Oct 2025) EndedAt: 2025-10-08 02:18:34 -0400 (Wed, 08 Oct 2025) EllapsedTime: 19.7 seconds RetCode: 0 Status: OK PackageFile: flowViz_1.73.0.tgz PackageFileSize: 1.469 MiB