Package: flowVS Version: 1.43.0 Command: /home/biocbuild/bbs-3.23-bioc/R/bin/R CMD INSTALL flowVS StartedAt: 2025-11-20 15:34:58 -0500 (Thu, 20 Nov 2025) EndedAt: 2025-11-20 15:35:13 -0500 (Thu, 20 Nov 2025) EllapsedTime: 15.6 seconds RetCode: 0 Status: OK