Package: flowVS Version: 1.43.0 Command: /home/biocbuild/bbs-3.23-bioc/R/bin/R CMD build --keep-empty-dirs --no-resave-data flowVS StartedAt: 2025-11-20 17:40:28 -0500 (Thu, 20 Nov 2025) EndedAt: 2025-11-20 17:42:28 -0500 (Thu, 20 Nov 2025) EllapsedTime: 120.1 seconds RetCode: 0 Status: OK PackageFile: flowVS_1.43.0.tar.gz PackageFileSize: 3.699 MiB