Package: flowVS Version: 1.41.0 Command: /Library/Frameworks/R.framework/Resources/bin/R CMD INSTALL flowVS StartedAt: 2025-10-08 15:25:09 -0400 (Wed, 08 Oct 2025) EndedAt: 2025-10-08 15:25:16 -0400 (Wed, 08 Oct 2025) EllapsedTime: 6.7 seconds RetCode: 0 Status: OK