Package: flowVS Version: 1.41.0 Command: /Library/Frameworks/R.framework/Resources/bin/R CMD build --keep-empty-dirs --no-resave-data flowVS StartedAt: 2025-10-08 16:31:34 -0400 (Wed, 08 Oct 2025) EndedAt: 2025-10-08 16:32:28 -0400 (Wed, 08 Oct 2025) EllapsedTime: 54.6 seconds RetCode: 0 Status: OK PackageFile: flowVS_1.41.0.tar.gz PackageFileSize: 3.699 MiB