Package: flowVS Version: 1.43.0 Maintainer: Ariful Azad MaintainerEmail: azad at iu.edu git_url: https://git.bioconductor.org/packages/flowVS git_branch: devel git_last_commit: ed38ef9 git_last_commit_date: 2025-10-29 11:08:30 -0400 (Wed, 29 Oct 2025)