Package: flowTrans Version: 1.61.0 Command: /home/biocbuild/R/R/bin/R CMD INSTALL flowTrans StartedAt: 2025-10-23 20:35:15 -0000 (Thu, 23 Oct 2025) EndedAt: 2025-10-23 20:35:26 -0000 (Thu, 23 Oct 2025) EllapsedTime: 10.3 seconds RetCode: 0 Status: OK