Package: flowTime Version: 1.35.0 Command: /home/biocbuild/bbs-3.23-bioc/R/bin/R CMD INSTALL flowTime StartedAt: 2025-10-31 15:21:36 -0400 (Fri, 31 Oct 2025) EndedAt: 2025-10-31 15:21:45 -0400 (Fri, 31 Oct 2025) EllapsedTime: 8.3 seconds RetCode: 0 Status: OK