Package: flowTime Version: 1.35.0 Command: /home/biocbuild/bbs-3.23-bioc/R/bin/R CMD build --keep-empty-dirs --no-resave-data flowTime StartedAt: 2025-10-31 17:51:00 -0400 (Fri, 31 Oct 2025) EndedAt: 2025-10-31 17:51:34 -0400 (Fri, 31 Oct 2025) EllapsedTime: 34.0 seconds RetCode: 0 Status: OK PackageFile: flowTime_1.35.0.tar.gz PackageFileSize: 2.438 MiB