Package: flowStats Version: 4.21.0 Command: /home/biocbuild/bbs-3.22-bioc/R/bin/R CMD check --install=check:flowStats.install-out.txt --library=/home/biocbuild/bbs-3.22-bioc/R/site-library --timings flowStats_4.21.0.tar.gz StartedAt: 2025-10-16 00:29:47 -0400 (Thu, 16 Oct 2025) EndedAt: 2025-10-16 00:33:46 -0400 (Thu, 16 Oct 2025) EllapsedTime: 239.3 seconds RetCode: 0 Status: WARNINGS CheckDir: flowStats.Rcheck Warnings: 4