Package: flowStats Version: 4.23.0 Command: /home/biocbuild/bbs-3.23-bioc/R/bin/R CMD INSTALL flowStats StartedAt: 2025-11-19 15:39:44 -0500 (Wed, 19 Nov 2025) EndedAt: 2025-11-19 15:40:09 -0500 (Wed, 19 Nov 2025) EllapsedTime: 24.6 seconds RetCode: 0 Status: OK