Package: flowStats Version: 4.23.0 Command: /home/biocbuild/bbs-3.23-bioc/R/bin/R CMD check --install=check:flowStats.install-out.txt --library=/home/biocbuild/bbs-3.23-bioc/R/site-library --timings flowStats_4.23.0.tar.gz StartedAt: 2025-11-19 23:40:48 -0500 (Wed, 19 Nov 2025) EndedAt: 2025-11-19 23:44:47 -0500 (Wed, 19 Nov 2025) EllapsedTime: 239.4 seconds RetCode: 0 Status: WARNINGS CheckDir: flowStats.Rcheck Warnings: 4