Package: flowStats Version: 4.23.0 Command: /home/biocbuild/bbs-3.23-bioc/R/bin/R CMD build --keep-empty-dirs --no-resave-data flowStats StartedAt: 2025-11-19 17:42:55 -0500 (Wed, 19 Nov 2025) EndedAt: 2025-11-19 17:44:29 -0500 (Wed, 19 Nov 2025) EllapsedTime: 94.1 seconds RetCode: 0 Status: OK PackageFile: flowStats_4.23.0.tar.gz PackageFileSize: 10.96 MiB