Package: flowPlots Version: 1.57.0 Command: /Library/Frameworks/R.framework/Resources/bin/R CMD INSTALL flowPlots StartedAt: 2025-10-09 15:04:40 -0400 (Thu, 09 Oct 2025) EndedAt: 2025-10-09 15:05:22 -0400 (Thu, 09 Oct 2025) EllapsedTime: 41.6 seconds RetCode: 0 Status: OK