Package: flowPlots Version: 1.57.0 Command: /Library/Frameworks/R.framework/Resources/bin/R CMD build --keep-empty-dirs --no-resave-data flowPlots StartedAt: 2025-10-09 17:06:34 -0400 (Thu, 09 Oct 2025) EndedAt: 2025-10-09 17:06:56 -0400 (Thu, 09 Oct 2025) EllapsedTime: 21.8 seconds RetCode: 0 Status: OK PackageFile: flowPlots_1.57.0.tar.gz PackageFileSize: 635 KiB