Package: flowPlots Version: 1.57.0 Command: rm -rf flowPlots.buildbin-libdir && mkdir flowPlots.buildbin-libdir && /Users/biocbuild/BBS/utils/build-universal.sh flowPlots_1.57.0.tar.gz /Library/Frameworks/R.framework/Resources/bin/R flowPlots.buildbin-libdir StartedAt: 2025-10-10 02:35:40 -0400 (Fri, 10 Oct 2025) EndedAt: 2025-10-10 02:35:47 -0400 (Fri, 10 Oct 2025) EllapsedTime: 7.1 seconds RetCode: 0 Status: OK PackageFile: flowPlots_1.57.0.tgz PackageFileSize: 847.6 KiB