Package: flowPloidy Version: 1.35.0 Command: /Library/Frameworks/R.framework/Resources/bin/R CMD build --keep-empty-dirs --no-resave-data flowPloidy StartedAt: 2025-10-14 17:11:02 -0400 (Tue, 14 Oct 2025) EndedAt: 2025-10-14 17:11:47 -0400 (Tue, 14 Oct 2025) EllapsedTime: 44.7 seconds RetCode: 0 Status: OK PackageFile: flowPloidy_1.35.0.tar.gz PackageFileSize: 2.332 MiB