Package: flowPloidy Version: 1.35.0 Command: /Library/Frameworks/R.framework/Resources/bin/R CMD INSTALL flowPloidy StartedAt: 2025-09-30 15:10:07 -0400 (Tue, 30 Sep 2025) EndedAt: 2025-09-30 15:10:11 -0400 (Tue, 30 Sep 2025) EllapsedTime: 4.4 seconds RetCode: 0 Status: OK