Package: flowPloidy Version: 1.35.0 Maintainer: Tyler Smith MaintainerEmail: tyler at plantarum.ca git_url: https://git.bioconductor.org/packages/flowPloidy git_branch: devel git_last_commit: 030d8f5 git_last_commit_date: 2025-04-15 11:05:56 -0400 (Tue, 15 Apr 2025)