Package: flowPeaks Version: 1.57.0 Command: /home/biocbuild/bbs-3.23-bioc/R/bin/R CMD INSTALL flowPeaks StartedAt: 2025-10-31 15:10:06 -0400 (Fri, 31 Oct 2025) EndedAt: 2025-10-31 15:10:22 -0400 (Fri, 31 Oct 2025) EllapsedTime: 16.4 seconds RetCode: 0 Status: OK