Package: flowPeaks Version: 1.57.0 Command: /home/biocbuild/bbs-3.23-bioc/R/bin/R CMD build --keep-empty-dirs --no-resave-data flowPeaks StartedAt: 2025-10-31 17:50:41 -0400 (Fri, 31 Oct 2025) EndedAt: 2025-10-31 17:51:03 -0400 (Fri, 31 Oct 2025) EllapsedTime: 22.1 seconds RetCode: 0 Status: OK PackageFile: flowPeaks_1.57.0.tar.gz PackageFileSize: 2.709 MiB