Package: flowPeaks Version: 1.57.0 Command: /Library/Frameworks/R.framework/Resources/bin/R CMD build --keep-empty-dirs --no-resave-data flowPeaks StartedAt: 2025-11-21 17:02:24 -0500 (Fri, 21 Nov 2025) EndedAt: 2025-11-21 17:03:01 -0500 (Fri, 21 Nov 2025) EllapsedTime: 36.7 seconds RetCode: 0 Status: OK PackageFile: flowPeaks_1.57.0.tar.gz PackageFileSize: 3.904 MiB