Package: flowPeaks Version: 1.57.0 Command: rm -rf flowPeaks.buildbin-libdir && mkdir flowPeaks.buildbin-libdir && /Users/biocbuild/BBS/utils/build-universal.sh flowPeaks_1.57.0.tar.gz /Library/Frameworks/R.framework/Resources/bin/R flowPeaks.buildbin-libdir StartedAt: 2025-11-22 01:34:36 -0500 (Sat, 22 Nov 2025) EndedAt: 2025-11-22 01:35:05 -0500 (Sat, 22 Nov 2025) EllapsedTime: 29.0 seconds RetCode: 0 Status: OK PackageFile: flowPeaks_1.57.0.tgz PackageFileSize: 4.266 MiB