Package: flowPeaks Version: 1.55.0 Command: /Library/Frameworks/R.framework/Resources/bin/R CMD INSTALL flowPeaks StartedAt: 2025-10-17 15:01:12 -0400 (Fri, 17 Oct 2025) EndedAt: 2025-10-17 15:01:18 -0400 (Fri, 17 Oct 2025) EllapsedTime: 5.9 seconds RetCode: 0 Status: OK