Package: flowPeaks Version: 1.55.0 Command: rm -rf flowPeaks.buildbin-libdir && mkdir flowPeaks.buildbin-libdir && /Users/biocbuild/BBS/utils/build-universal.sh flowPeaks_1.55.0.tar.gz /Library/Frameworks/R.framework/Resources/bin/R flowPeaks.buildbin-libdir StartedAt: 2025-10-17 23:08:35 -0400 (Fri, 17 Oct 2025) EndedAt: 2025-10-17 23:08:41 -0400 (Fri, 17 Oct 2025) EllapsedTime: 6.1 seconds RetCode: 0 Status: OK PackageFile: flowPeaks_1.55.0.tgz PackageFileSize: 4.174 MiB