Package: flowMerge Version: 2.59.0 Command: /home/biocbuild/bbs-3.23-bioc/R/bin/R CMD INSTALL flowMerge StartedAt: 2025-11-20 15:57:08 -0500 (Thu, 20 Nov 2025) EndedAt: 2025-11-20 15:57:28 -0500 (Thu, 20 Nov 2025) EllapsedTime: 19.9 seconds RetCode: 0 Status: OK