Package: flowMerge Version: 2.59.0 Command: /home/biocbuild/bbs-3.23-bioc/R/bin/R CMD build --keep-empty-dirs --no-resave-data flowMerge StartedAt: 2025-11-20 17:39:47 -0500 (Thu, 20 Nov 2025) EndedAt: 2025-11-20 17:40:26 -0500 (Thu, 20 Nov 2025) EllapsedTime: 39.1 seconds RetCode: 0 Status: OK PackageFile: flowMerge_2.59.0.tar.gz PackageFileSize: 596.5 KiB