Package: flowMeans Version: 1.71.0 Command: /home/biocbuild/bbs-3.23-bioc/R/bin/R CMD INSTALL flowMeans StartedAt: 2025-11-04 15:12:30 -0500 (Tue, 04 Nov 2025) EndedAt: 2025-11-04 15:12:44 -0500 (Tue, 04 Nov 2025) EllapsedTime: 14.2 seconds RetCode: 0 Status: OK