Package: flowMeans Version: 1.71.0 Command: /home/biocbuild/bbs-3.23-bioc/R/bin/R CMD build --keep-empty-dirs --no-resave-data flowMeans StartedAt: 2025-11-04 17:34:58 -0500 (Tue, 04 Nov 2025) EndedAt: 2025-11-04 17:35:25 -0500 (Tue, 04 Nov 2025) EllapsedTime: 26.0 seconds RetCode: 0 Status: OK PackageFile: flowMeans_1.71.0.tar.gz PackageFileSize: 3.284 MiB