Package: flowMeans Version: 1.69.0 Command: /Library/Frameworks/R.framework/Resources/bin/R CMD INSTALL flowMeans StartedAt: 2025-10-10 15:21:16 -0400 (Fri, 10 Oct 2025) EndedAt: 2025-10-10 15:21:44 -0400 (Fri, 10 Oct 2025) EllapsedTime: 27.8 seconds RetCode: 0 Status: OK