Package: flowMeans Version: 1.69.0 Command: /Library/Frameworks/R.framework/Resources/bin/R CMD build --keep-empty-dirs --no-resave-data flowMeans StartedAt: 2025-10-10 17:12:29 -0400 (Fri, 10 Oct 2025) EndedAt: 2025-10-10 17:13:11 -0400 (Fri, 10 Oct 2025) EllapsedTime: 42.3 seconds RetCode: 0 Status: OK PackageFile: flowMeans_1.69.0.tar.gz PackageFileSize: 3.284 MiB