Package: flowMatch Version: 1.47.0 Command: /home/biocbuild/bbs-3.23-bioc/R/bin/R CMD INSTALL flowMatch StartedAt: 2025-11-02 15:20:14 -0500 (Sun, 02 Nov 2025) EndedAt: 2025-11-02 15:20:40 -0500 (Sun, 02 Nov 2025) EllapsedTime: 25.9 seconds RetCode: 0 Status: OK