Package: flowMatch Version: 1.47.0 Command: /home/biocbuild/bbs-3.23-bioc/R/bin/R CMD build --keep-empty-dirs --no-resave-data flowMatch StartedAt: 2025-10-31 17:50:11 -0400 (Fri, 31 Oct 2025) EndedAt: 2025-10-31 17:50:52 -0400 (Fri, 31 Oct 2025) EllapsedTime: 41.0 seconds RetCode: 0 Status: OK PackageFile: flowMatch_1.47.0.tar.gz PackageFileSize: 3.676 MiB