Package: flowMatch Version: 1.45.0 Command: /Library/Frameworks/R.framework/Resources/bin/R CMD INSTALL flowMatch StartedAt: 2025-10-10 15:21:27 -0400 (Fri, 10 Oct 2025) EndedAt: 2025-10-10 15:21:58 -0400 (Fri, 10 Oct 2025) EllapsedTime: 31.2 seconds RetCode: 0 Status: OK