Package: flowMatch Version: 1.45.0 Command: /Library/Frameworks/R.framework/Resources/bin/R CMD build --keep-empty-dirs --no-resave-data flowMatch StartedAt: 2025-10-10 17:12:29 -0400 (Fri, 10 Oct 2025) EndedAt: 2025-10-10 17:13:21 -0400 (Fri, 10 Oct 2025) EllapsedTime: 51.5 seconds RetCode: 0 Status: OK PackageFile: flowMatch_1.45.0.tar.gz PackageFileSize: 3.673 MiB