Package: flowGraph Version: 1.17.0 Command: /home/biocbuild/R/R/bin/R CMD INSTALL flowGraph StartedAt: 2025-10-02 20:25:25 -0000 (Thu, 02 Oct 2025) EndedAt: 2025-10-02 20:26:13 -0000 (Thu, 02 Oct 2025) EllapsedTime: 47.9 seconds RetCode: 0 Status: OK