Package: flowGraph Version: 1.17.0 Command: /home/biocbuild/R/R/bin/R CMD build --keep-empty-dirs --no-resave-data flowGraph StartedAt: 2025-10-06 23:44:38 -0000 (Mon, 06 Oct 2025) EndedAt: 2025-10-06 23:45:36 -0000 (Mon, 06 Oct 2025) EllapsedTime: 58.0 seconds RetCode: 0 Status: OK PackageFile: flowGraph_1.17.0.tar.gz PackageFileSize: 1.448 MiB