Package: flowGraph Version: 1.17.0 Command: chmod a+r flowGraph -R && F:\biocbuild\bbs-3.22-bioc\R\bin\R.exe CMD build --keep-empty-dirs --no-resave-data flowGraph StartedAt: 2025-08-14 20:14:13 -0400 (Thu, 14 Aug 2025) EndedAt: 2025-08-14 20:15:43 -0400 (Thu, 14 Aug 2025) EllapsedTime: 90.7 seconds RetCode: 0 Status: OK PackageFile: flowGraph_1.17.0.tar.gz PackageFileSize: 1.227 MiB