Package: flowGraph Version: 1.17.0 Command: rm -rf flowGraph.buildbin-libdir && mkdir flowGraph.buildbin-libdir && F:\biocbuild\bbs-3.22-bioc\R\bin\R.exe CMD INSTALL --build --library=flowGraph.buildbin-libdir flowGraph_1.17.0.tar.gz StartedAt: 2025-08-15 10:17:09 -0400 (Fri, 15 Aug 2025) EndedAt: 2025-08-15 10:18:21 -0400 (Fri, 15 Aug 2025) EllapsedTime: 71.2 seconds RetCode: 0 Status: OK PackageFile: flowGraph_1.17.0.zip PackageFileSize: 1.606 MiB