Package: flowGraph Version: 1.19.0 Command: /home/biocbuild/bbs-3.23-bioc/R/bin/R CMD INSTALL flowGraph StartedAt: 2025-11-02 15:16:46 -0500 (Sun, 02 Nov 2025) EndedAt: 2025-11-02 15:17:07 -0500 (Sun, 02 Nov 2025) EllapsedTime: 20.5 seconds RetCode: 0 Status: OK