Package: flowGraph Version: 1.19.0 Command: /home/biocbuild/bbs-3.23-bioc/R/bin/R CMD build --keep-empty-dirs --no-resave-data flowGraph StartedAt: 2025-11-03 17:34:01 -0500 (Mon, 03 Nov 2025) EndedAt: 2025-11-03 17:34:41 -0500 (Mon, 03 Nov 2025) EllapsedTime: 40.0 seconds RetCode: 0 Status: OK PackageFile: flowGraph_1.19.0.tar.gz PackageFileSize: 2.158 MiB