Package: flowGraph Version: 1.17.0 Command: /Library/Frameworks/R.framework/Resources/bin/R CMD INSTALL flowGraph StartedAt: 2025-10-05 15:10:26 -0400 (Sun, 05 Oct 2025) EndedAt: 2025-10-05 15:11:11 -0400 (Sun, 05 Oct 2025) EllapsedTime: 45.2 seconds RetCode: 0 Status: OK