Package: flowGraph Version: 1.17.0 Command: /Library/Frameworks/R.framework/Resources/bin/R CMD build --keep-empty-dirs --no-resave-data flowGraph StartedAt: 2025-10-03 17:03:06 -0400 (Fri, 03 Oct 2025) EndedAt: 2025-10-03 17:04:12 -0400 (Fri, 03 Oct 2025) EllapsedTime: 65.2 seconds RetCode: 0 Status: OK PackageFile: flowGraph_1.17.0.tar.gz PackageFileSize: 2.094 MiB