Package: flowGate Version: 1.9.0 Command: /home/biocbuild/R/R/bin/R CMD INSTALL flowGate StartedAt: 2025-10-23 20:57:12 -0000 (Thu, 23 Oct 2025) EndedAt: 2025-10-23 20:57:32 -0000 (Thu, 23 Oct 2025) EllapsedTime: 19.4 seconds RetCode: 0 Status: OK